BEGIN:VCALENDAR
VERSION:2.0
PRODID:-//Pomona Chamber of Commerce - ECPv6.15.18//NONSGML v1.0//EN
CALSCALE:GREGORIAN
METHOD:PUBLISH
X-ORIGINAL-URL:https://pomonachamber.org
X-WR-CALDESC:Events for Pomona Chamber of Commerce
REFRESH-INTERVAL;VALUE=DURATION:PT1H
X-Robots-Tag:noindex
X-PUBLISHED-TTL:PT1H
BEGIN:VTIMEZONE
TZID:America/Los_Angeles
BEGIN:DAYLIGHT
TZOFFSETFROM:-0800
TZOFFSETTO:-0700
TZNAME:PDT
DTSTART:20250309T100000
END:DAYLIGHT
BEGIN:STANDARD
TZOFFSETFROM:-0700
TZOFFSETTO:-0800
TZNAME:PST
DTSTART:20251102T090000
END:STANDARD
BEGIN:DAYLIGHT
TZOFFSETFROM:-0800
TZOFFSETTO:-0700
TZNAME:PDT
DTSTART:20260308T100000
END:DAYLIGHT
BEGIN:STANDARD
TZOFFSETFROM:-0700
TZOFFSETTO:-0800
TZNAME:PST
DTSTART:20261101T090000
END:STANDARD
BEGIN:DAYLIGHT
TZOFFSETFROM:-0800
TZOFFSETTO:-0700
TZNAME:PDT
DTSTART:20270314T100000
END:DAYLIGHT
BEGIN:STANDARD
TZOFFSETFROM:-0700
TZOFFSETTO:-0800
TZNAME:PST
DTSTART:20271107T090000
END:STANDARD
END:VTIMEZONE
BEGIN:VEVENT
DTSTART;TZID=America/Los_Angeles:20260311T120000
DTEND;TZID=America/Los_Angeles:20260311T133000
DTSTAMP:20260422T045253
CREATED:20251221T010003Z
LAST-MODIFIED:20260302T155123Z
UID:10015004-1773230400-1773235800@pomonachamber.org
SUMMARY:Networking at Noon
DESCRIPTION:
URL:https://pomonachamber.org/event/networking-at-noon-2026-03-11/
LOCATION:CA
CATEGORIES:Chamber Member Events,Feature
ATTACH;FMTTYPE=image/jpeg:https://pomonachamber.org/wp-content/uploads/2026/03/Pomona-Networking-at-noon.jpg
ORGANIZER;CN="Pomona Chamber of Commerce":MAILTO:info@pomonachamber.org
END:VEVENT
BEGIN:VEVENT
DTSTART;TZID=America/Los_Angeles:20260319T180000
DTEND;TZID=America/Los_Angeles:20260319T210000
DTSTAMP:20260422T045253
CREATED:20251221T020037Z
LAST-MODIFIED:20260306T220706Z
UID:10015006-1773943200-1773954000@pomonachamber.org
SUMMARY:Annual Women's Awards 2026
DESCRIPTION:[vc_section][vc_row][vc_column]Get Tickets[/vc_column][/vc_row][/vc_section]
URL:https://pomonachamber.org/event/annual-womens-awards-2026/
LOCATION:The Fox Theater Courtyard\, 301 South Garey Avenue\, Pomona\, 91766\, United States
CATEGORIES:Chamber Member Events,Feature
ATTACH;FMTTYPE=image/jpeg:https://pomonachamber.org/wp-content/uploads/2026/03/Pomona-Women-Awards.jpg
END:VEVENT
BEGIN:VEVENT
DTSTART;TZID=America/Los_Angeles:20260320T130000
DTEND;TZID=America/Los_Angeles:20260320T140000
DTSTAMP:20260422T045253
CREATED:20251222T020019Z
LAST-MODIFIED:20260319T141732Z
UID:10015008-1774011600-1774015200@pomonachamber.org
SUMMARY:Ribbon Cutting Ceremony – CORE
DESCRIPTION:
URL:https://pomonachamber.org/event/ribbon-cutting-ceremony-core/
LOCATION:Core\, 363 S. Park Ave. Ste 104A\, Pomona\, 91766\, United States
CATEGORIES:Chamber Member Events,Feature
ATTACH;FMTTYPE=image/jpeg:https://pomonachamber.org/wp-content/uploads/2026/03/Pomona-ribbon-cutting-ceremony.jpg
END:VEVENT
END:VCALENDAR