BEGIN:VCALENDAR
VERSION:2.0
PRODID:-//Pomona Chamber of Commerce - ECPv6.15.18//NONSGML v1.0//EN
CALSCALE:GREGORIAN
METHOD:PUBLISH
X-WR-CALNAME:Pomona Chamber of Commerce
X-ORIGINAL-URL:https://pomonachamber.org
X-WR-CALDESC:Events for Pomona Chamber of Commerce
REFRESH-INTERVAL;VALUE=DURATION:PT1H
X-Robots-Tag:noindex
X-PUBLISHED-TTL:PT1H
BEGIN:VTIMEZONE
TZID:America/Los_Angeles
BEGIN:DAYLIGHT
TZOFFSETFROM:-0800
TZOFFSETTO:-0700
TZNAME:PDT
DTSTART:20250309T100000
END:DAYLIGHT
BEGIN:STANDARD
TZOFFSETFROM:-0700
TZOFFSETTO:-0800
TZNAME:PST
DTSTART:20251102T090000
END:STANDARD
BEGIN:DAYLIGHT
TZOFFSETFROM:-0800
TZOFFSETTO:-0700
TZNAME:PDT
DTSTART:20260308T100000
END:DAYLIGHT
BEGIN:STANDARD
TZOFFSETFROM:-0700
TZOFFSETTO:-0800
TZNAME:PST
DTSTART:20261101T090000
END:STANDARD
BEGIN:DAYLIGHT
TZOFFSETFROM:-0800
TZOFFSETTO:-0700
TZNAME:PDT
DTSTART:20270314T100000
END:DAYLIGHT
BEGIN:STANDARD
TZOFFSETFROM:-0700
TZOFFSETTO:-0800
TZNAME:PST
DTSTART:20271107T090000
END:STANDARD
END:VTIMEZONE
BEGIN:VEVENT
DTSTART;TZID=America/Los_Angeles:20260220T080000
DTEND;TZID=America/Los_Angeles:20260220T140000
DTSTAMP:20260422T113401
CREATED:20251220T230615Z
LAST-MODIFIED:20260210T235246Z
UID:10014994-1771574400-1771596000@pomonachamber.org
SUMMARY:Principal for a Day
DESCRIPTION:Sing-up by: Friday February 13th 2026\nParticipate in the Principal for a Day program\, happening on Friday February 20th 2026\, for a first hand opportunity to observe Pomona’s school programs up close! As you shadow. a principal throughout their day\, you’ll interact with students and be a part of developing partnerships that strengthen Pomona’s education system! \nPlease submit your application along with the participation fee. A confirmation packet including your school assignment will be sent prior to the event. School site requests are not guaranteed. \nemail: info@pomonachamber.org
URL:https://pomonachamber.org/event/principal-for-a-day-2026/
LOCATION:CA
CATEGORIES:Chamber Member Events,Feature
ATTACH;FMTTYPE=image/jpeg:https://pomonachamber.org/wp-content/uploads/2026/01/Pomona-Principal-For-A-Day.jpg
ORGANIZER;CN="Pomona Chamber of Commerce":MAILTO:info@pomonachamber.org
END:VEVENT
END:VCALENDAR